BEGIN:VCALENDAR
VERSION:2.0
PRODID:-//ChamberMaster//Event Calendar 2.0//EN
METHOD:PUBLISH
X-PUBLISHED-TTL:P3D
REFRESH-INTERVAL:P3D
CALSCALE:GREGORIAN
BEGIN:VEVENT
DTSTART:20230206T130000Z
DTEND:20230216T010000Z
X-MICROSOFT-CDO-ALLDAYEVENT:FALSE
SUMMARY:You\, Me\, and Us
DESCRIPTION:Michigan Tech Art presents this Art Exhibition. The Artist Statement - Driven by themes of introspection\, memory\, and human connection\, together we've created a series inspired by different experiences in our own lives that we feel are more universal than subconsciously realized. These snippets from our lives are an opportunity to see our reflections\, you looking at it\, and us looking at it together as we grow to understand each other a little bit better. Artworks by three senior Visual & Performing Artists\; Bobbie Desgrange is an artist\, sourdough lover\, and arcade enthusiast from Lansing\, Michigan. Maisie Whitaker is an artist and student originally from Hart\, Michigan. She uses art as an opportunity to work with an organic and freeform approach often with disciplines in fiber arts and painting. Madi Wentela is a sculptor and theatre creator from Stafford\, Virginia. She is currently working towards a degree in Theatre and Entertainment Technology from Michigan Technological University. Content Considerations // mentions of sexual assault (SA) and suicide. Email: rozsa@mtu.edu Phone Number: 906-487-1906
X-ALT-DESC;FMTTYPE=text/html:Michigan Tech Art presents this Art Exhibition. The Artist Statement - Driven by themes of introspection\, memory\, and human connection\, together we&rsquo\;ve created a series inspired by different experiences in our own lives that we feel are more universal than subconsciously realized. These snippets from our lives are an opportunity to see our reflections\, you looking at it\, and us looking at it together as we grow to understand each other a little bit better. Artworks by three senior Visual &amp\; Performing Artists\; Bobbie Desgrange is an artist\, sourdough lover\, and arcade enthusiast from Lansing\, Michigan. Maisie Whitaker is an artist and student originally from Hart\, Michigan. She uses art as an opportunity to work with an organic and freeform approach often with disciplines in fiber arts and painting. Madi Wentela is a sculptor and theatre creator from Stafford\, Virginia. She is currently working towards a degree in Theatre and Entertainment Technology from Michigan Technological University. Content Considerations // mentions of sexual assault (SA) and suicide. Email: rozsa@mtu.edu Phone Number: 906-487-1906
LOCATION:Rozsa Center for the Performing Arts \, Rozsa Galleries A-Space 1400 Townsend Drive\, Houghton\, MI 49931
UID:e.2486.7884
SEQUENCE:3
DTSTAMP:20260421T074759Z
URL:https://business.keweenaw.org/events/details/you-me-and-us-7884
END:VEVENT

END:VCALENDAR
