BEGIN:VCALENDAR
VERSION:2.0
PRODID:-//ChamberMaster//Event Calendar 2.0//EN
METHOD:PUBLISH
X-PUBLISHED-TTL:P3D
REFRESH-INTERVAL:P3D
CALSCALE:GREGORIAN
BEGIN:VEVENT
DTSTART:20200229T150000Z
DTEND:20200229T190000Z
X-MICROSOFT-CDO-ALLDAYEVENT:FALSE
SUMMARY:Winter Market
DESCRIPTION:The Calumet Art Center is hosting a Winter Market with all of your favorite vendors selling\, bread\, bakery\, iron forged items\, stained glass\, pallet art and more.
X-ALT-DESC;FMTTYPE=text/html:The Calumet Art Center is hosting a Winter Market with all of your favorite vendors selling\, bread\, bakery\, iron forged items\, stained glass\, pallet art and more.
LOCATION:Calumet Art Center 57055 5th Street Calumet\, MI 49913
UID:e.2486.7371
SEQUENCE:3
DTSTAMP:20260421T113514Z
URL:https://business.keweenaw.org/events/details/winter-market-02-29-2020-7371
END:VEVENT

END:VCALENDAR
