BEGIN:VCALENDAR
VERSION:2.0
PRODID:-//ChamberMaster//Event Calendar 2.0//EN
METHOD:PUBLISH
X-PUBLISHED-TTL:P3D
REFRESH-INTERVAL:P3D
CALSCALE:GREGORIAN
BEGIN:VEVENT
DTSTART:20230311T170000Z
DTEND:20230311T190000Z
X-MICROSOFT-CDO-ALLDAYEVENT:FALSE
SUMMARY:Teacup Gnomes
DESCRIPTION:Class fee is $30 and pre-registration and payment in full are required. All ages welcome to come and make this delightful teacup gnome!
X-ALT-DESC;FMTTYPE=text/html:Class fee is $30 and pre-registration and payment in full are required. All ages welcome to come and make this delightful teacup gnome!
LOCATION:Calumet Art Center 57055 5th Street Calumet\, MI 49913
UID:e.2486.7891
SEQUENCE:3
DTSTAMP:20260421T121955Z
URL:https://business.keweenaw.org/events/details/teacup-gnomes-7891
END:VEVENT

END:VCALENDAR
