BEGIN:VCALENDAR
VERSION:2.0
PRODID:-//ChamberMaster//Event Calendar 2.0//EN
METHOD:PUBLISH
X-PUBLISHED-TTL:P3D
REFRESH-INTERVAL:P3D
CALSCALE:GREGORIAN
BEGIN:VEVENT
DTSTART:20260523T160000Z
DTEND:20260523T180000Z
X-MICROSOFT-CDO-ALLDAYEVENT:FALSE
SUMMARY:Open House at the Calumet Art Center
DESCRIPTION:https://www.facebook.com/share/p/1AxzbJpwQz/
X-ALT-DESC;FMTTYPE=text/html:https://www.facebook.com/share/p/1AxzbJpwQz/
LOCATION:Calumet Art Center in the Big Green Church\, 57055 5th Street\, Calumet MI 49913
UID:e.2486.8602
SEQUENCE:3
DTSTAMP:20260421T170423Z
URL:https://business.keweenaw.org/events/details/open-house-at-the-calumet-art-center-8602
END:VEVENT

END:VCALENDAR
