BEGIN:VCALENDAR
VERSION:2.0
PRODID:-//ChamberMaster//Event Calendar 2.0//EN
METHOD:PUBLISH
X-PUBLISHED-TTL:P3D
REFRESH-INTERVAL:P3D
CALSCALE:GREGORIAN
BEGIN:VEVENT
DTSTART:20230227T003000Z
DTEND:20230227T021500Z
X-MICROSOFT-CDO-ALLDAYEVENT:FALSE
SUMMARY:MUSIC FOR A SACRED SPACE
DESCRIPTION:Michigan Tech Music Presents MUSIC FOR A SACRED SPACE Performed By Michigan Tech Choirs ABOUT PROGRAM Michigan Tech Choirs\, under the direction of Dr. Jared Anderson\, perform an evening of sacred music at St. Joseph Catholic Church in Lake Linden. This concert is an annual fundraiser for the Society of St. Vincent de Paul. Learn more about Music in Sacred Spaces. Content Consideration // none For other event ticketing : Rozsa Box Office Hours: 11 a.m.-1 p.m. Monday-Friday and 1 hour before shows for walk-up sales PUBLIC CAN CONTACT THROUGH Email: rozsa@mtu.edu Phone Number: 906-487-1906
X-ALT-DESC;FMTTYPE=text/html:Michigan Tech Music Presents MUSIC FOR A SACRED SPACE Performed By Michigan Tech Choirs ABOUT PROGRAM Michigan Tech Choirs\, under the direction of Dr. Jared Anderson\, perform an evening of sacred music at St. Joseph Catholic Church in Lake Linden. This concert is an annual fundraiser for the Society of St. Vincent de Paul. Learn more about Music in Sacred Spaces. Content Consideration // none For other event ticketing : Rozsa Box Office Hours: 11 a.m.-1 p.m. Monday-Friday and 1 hour before shows for walk-up sales PUBLIC CAN CONTACT THROUGH Email: rozsa@mtu.edu Phone Number: 906-487-1906
LOCATION:St. Joseph Catholic Church\, 701 Calumet St\, Lake Linden\, MI 49945
UID:e.2486.7890
SEQUENCE:3
DTSTAMP:20260421T074101Z
URL:https://business.keweenaw.org/events/details/music-for-a-sacred-space-7890
END:VEVENT

END:VCALENDAR
