BEGIN:VCALENDAR
VERSION:2.0
PRODID:-//ChamberMaster//Event Calendar 2.0//EN
METHOD:PUBLISH
X-PUBLISHED-TTL:P3D
REFRESH-INTERVAL:P3D
CALSCALE:GREGORIAN
BEGIN:VEVENT
DTSTART:20250220T170000Z
DTEND:20250220T180000Z
X-MICROSOFT-CDO-ALLDAYEVENT:FALSE
SUMMARY:Lunch and Learn
DESCRIPTION:Join us on Thursday\, February 20\, 2025 for a presentation by Jody Lindberg of Northern Initiatives.\n\nLunch Catered by:\n\n Keweenaw Co-op Market & Deli\n\nNOON - 1 PM\n\nChamber Members - FREE\n\nNon-Members - $10\n\nAll are WELCOME!\n\nPre-registration REQUIRED at info@keweenaw.org\n\nLocation:\n\nThe Bluffs Senior Community Center\n\n1000 Bluff View Drive | Houghton | 3rd Floor Ballroom
X-ALT-DESC;FMTTYPE=text/html:<div class="xdj266r x11i5rnm xat24cr x1mh8g0r x1vvkbs" style="margin: 0px\; overflow-wrap: break-word\; font-family: &quot\;Segoe UI Historic&quot\;\, &quot\;Segoe UI&quot\;\, Helvetica\, Arial\, sans-serif\; color: rgb(8\, 8\, 9)\; font-size: 15px\;">Join us on Thursday\, February 20\, 2025 for a presentation by Jody Lindberg of Northern Initiatives.</div>\n\n<div class="x11i5rnm xat24cr x1mh8g0r x1vvkbs xtlvy1s" style="margin: 0.5em 0px 0px\; overflow-wrap: break-word\; font-family: &quot\;Segoe UI Historic&quot\;\, &quot\;Segoe UI&quot\;\, Helvetica\, Arial\, sans-serif\; color: rgb(8\, 8\, 9)\; font-size: 15px\;">Lunch Catered by:<br class="html-br" />\n&#65279\;Keweenaw Co-op Market &amp\; Deli<br class="html-br" />\nNOON - 1 PM<br class="html-br" />\nChamber Members - FREE<br class="html-br" />\nNon-Members - $10<br class="html-br" />\nAll are WELCOME!<br class="html-br" />\nPre-registration REQUIRED at info@keweenaw.org</div>\n\n<div class="x11i5rnm xat24cr x1mh8g0r x1vvkbs xtlvy1s" style="margin: 0.5em 0px 0px\; overflow-wrap: break-word\; font-family: &quot\;Segoe UI Historic&quot\;\, &quot\;Segoe UI&quot\;\, Helvetica\, Arial\, sans-serif\; color: rgb(8\, 8\, 9)\; font-size: 15px\;">Location:<br class="html-br" />\nThe Bluffs Senior Community Center<br class="html-br" />\n1000 Bluff View Drive | Houghton | 3rd Floor Ballroom</div>\n
LOCATION:
UID:e.2486.8346
SEQUENCE:3
DTSTAMP:20260419T180138Z
URL:https://business.keweenaw.org/events/details/lunch-and-learn-8346
END:VEVENT

END:VCALENDAR
