BEGIN:VCALENDAR
VERSION:2.0
PRODID:-//ChamberMaster//Event Calendar 2.0//EN
METHOD:PUBLISH
X-PUBLISHED-TTL:P3D
REFRESH-INTERVAL:P3D
CALSCALE:GREGORIAN
BEGIN:VEVENT
DTSTART:20230318T190000Z
DTEND:20230318T230000Z
X-MICROSOFT-CDO-ALLDAYEVENT:FALSE
SUMMARY:LBFE Retirement Open House
DESCRIPTION:Open House Retirement party for Mike and Cathy Aten Saturday - March 18\, 2023 from 3 - 7 pm at LBFE office in Hancock located at 527 Hancock Street.
X-ALT-DESC;FMTTYPE=text/html:Open House Retirement party for Mike and Cathy Aten Saturday - March 18\, 2023 from 3 - 7 pm at LBFE office in Hancock located at 527 Hancock Street.
LOCATION:527 Hancock Street
UID:e.2486.7879
SEQUENCE:3
DTSTAMP:20260422T053240Z
URL:https://business.keweenaw.org/events/details/lbfe-retirement-open-house-7879
END:VEVENT

END:VCALENDAR
