BEGIN:VCALENDAR
VERSION:2.0
PRODID:-//ChamberMaster//Event Calendar 2.0//EN
METHOD:PUBLISH
X-PUBLISHED-TTL:P3D
REFRESH-INTERVAL:P3D
CALSCALE:GREGORIAN
BEGIN:VEVENT
DTSTART:20230830T160000Z
DTEND:20230830T170000Z
X-MICROSOFT-CDO-ALLDAYEVENT:FALSE
SUMMARY:Keweenaw Learning Center Open House
DESCRIPTION:The Keweenaw Learning Center is moving! They are re-opening in their new location in downtown Hancock. Please join us for an open house and ribbon cutting on Wednesday\, August 30 at noon. Stop by to learn about their academic tutoring center and enter a raffle to win local prizes
X-ALT-DESC;FMTTYPE=text/html:<span style="color: rgb(5\, 5\, 5)\; font-family: &quot\;Segoe UI Historic&quot\;\, &quot\;Segoe UI&quot\;\, Helvetica\, Arial\, sans-serif\; font-size: 15px\;">The Keweenaw Learning Center is moving! They are re-opening in their new location in downtown Hancock. Please join us for an open house and ribbon cutting on Wednesday\, August 30 at noon. Stop by to learn about their academic tutoring center and enter a raffle to win local prizes</span>
LOCATION:323 Quincy St. Hancock\, MI
UID:e.2486.8001
SEQUENCE:3
DTSTAMP:20260421T083827Z
URL:https://business.keweenaw.org/events/details/keweenaw-learning-center-open-house-8001
END:VEVENT

END:VCALENDAR
