BEGIN:VCALENDAR
VERSION:2.0
PRODID:-//ChamberMaster//Event Calendar 2.0//EN
METHOD:PUBLISH
X-PUBLISHED-TTL:P3D
REFRESH-INTERVAL:P3D
CALSCALE:GREGORIAN
BEGIN:VEVENT
DTSTART;VALUE=DATE:20250215
DTEND;VALUE=DATE:20250216
TRANSP:TRANSPARENT
X-MICROSOFT-CDO-ALLDAYEVENT:TRUE
SUMMARY:Jibba Jabba
DESCRIPTION:Bundle up and join us for the 2025 Jibba Jabba Rail Jam in downtown Houghton on Saturday\, Feb. 15 @ 6 p.m. What is a rail jam? A rail jam is a winter event in which a special course is created with rail-like features and objects that skiers/snowboarders can perform tricks on. A unique rail jam course will be set up on Huron Street (next to Rhythm Bike & Board Co.)\, where professional freestyle snowboarders will attempt tricks and shred Huron Street down to the Houghton Waterfront pier.
X-ALT-DESC;FMTTYPE=text/html:Bundle up and join us for the 2025 Jibba Jabba Rail Jam in downtown Houghton on Saturday\, Feb. 15 @ 6 p.m. What is a rail jam? A rail jam is a winter event in which a special course is created with rail-like features and objects that skiers/snowboarders can perform tricks on. A unique rail jam course will be set up on Huron Street (next to Rhythm Bike &amp\; Board Co.)\, where professional freestyle snowboarders will attempt tricks and shred Huron Street down to the Houghton Waterfront pier.&nbsp\;
LOCATION:
UID:e.2486.8345
SEQUENCE:3
DTSTAMP:20260419T180646Z
URL:https://business.keweenaw.org/events/details/jibba-jabba-8345
END:VEVENT

END:VCALENDAR
