BEGIN:VCALENDAR
VERSION:2.0
PRODID:-//ChamberMaster//Event Calendar 2.0//EN
METHOD:PUBLISH
X-PUBLISHED-TTL:P3D
REFRESH-INTERVAL:P3D
CALSCALE:GREGORIAN
BEGIN:VEVENT
DTSTART:20230930T233000Z
DTEND:20231001T010000Z
X-MICROSOFT-CDO-ALLDAYEVENT:FALSE
SUMMARY:Heartwood Trio
DESCRIPTION:Recipients of a 2022 Rabbit Island Artist residency\, Heartwood Trio returns to the Copper Country to share their beautiful harmonies and musical arrangements. The trio proclaims that they "explore the music flowing through us- growing out of the woods\, the water\, the rock\, and the trees. We come together in wilderness places to collaborate with the landscape\, composing music for performance and community signing." \n\nThis program is made possible with support from the Michigan Arts and Culture Council.
X-ALT-DESC;FMTTYPE=text/html:Recipients of a 2022 Rabbit Island Artist residency\, Heartwood Trio returns to the Copper Country to share their beautiful harmonies and musical arrangements. The trio proclaims that they &quot\;explore the music flowing through us- growing out of the woods\, the water\, the rock\, and the trees. We come together in wilderness places to collaborate with the landscape\, composing music for performance and community signing.&quot\;&nbsp\;<br />\nThis program is made possible with support from the Michigan Arts and Culture Council.
LOCATION:215 5th Street. Calumet\, MI 49913
UID:e.2486.8084
SEQUENCE:3
DTSTAMP:20260421T095729Z
URL:https://business.keweenaw.org/events/details/heartwood-trio-8084
END:VEVENT

END:VCALENDAR
