BEGIN:VCALENDAR
VERSION:2.0
PRODID:-//ChamberMaster//Event Calendar 2.0//EN
METHOD:PUBLISH
X-PUBLISHED-TTL:P3D
REFRESH-INTERVAL:P3D
CALSCALE:GREGORIAN
BEGIN:VEVENT
DTSTART:20210513T183000Z
DTEND:20210513T230000Z
X-MICROSOFT-CDO-ALLDAYEVENT:FALSE
SUMMARY:Handmade Painted Earrings with Bobbi Shirey
DESCRIPTION:Get out andcome have fun with Local artist Bobbi Shirey & design and paint onearrings. Let your imagination go wild in creating your one of akind wearable art. Bring a friend or 2 for a fun filled night & makesome fun earrings for summer. For teens to seniors. You will be provided 2 pairs of earrings to paint on. Class cost is $40\, which includes all materials. Pre-registration and payment in full is required.
X-ALT-DESC;FMTTYPE=text/html:Get out andcome have fun with Local artist Bobbi Shirey &amp\; design and paint onearrings. Let your imagination go wild in creating your one of akind wearable art. Bring a friend or 2 for a fun filled night &amp\; makesome fun earrings for summer. For teens to seniors. You will be provided 2 pairs of earrings to paint on. Class cost is $40\, which includes all materials. Pre-registration and payment in full is required.
LOCATION:Calumet Art Center 57055 5th Street Calumet\, MI 49913
UID:e.2486.7479
SEQUENCE:3
DTSTAMP:20260421T120124Z
URL:https://business.keweenaw.org/events/details/handmade-painted-earrings-with-bobbi-shirey-7479
END:VEVENT

END:VCALENDAR
