BEGIN:VCALENDAR
VERSION:2.0
PRODID:-//ChamberMaster//Event Calendar 2.0//EN
METHOD:PUBLISH
X-PUBLISHED-TTL:P3D
REFRESH-INTERVAL:P3D
CALSCALE:GREGORIAN
BEGIN:VEVENT
DTSTART:20230930T133000Z
DTEND:20230930T150000Z
X-MICROSOFT-CDO-ALLDAYEVENT:FALSE
SUMMARY:Gremlin Fun Run
DESCRIPTION:Join us for the Gremlins Fun Run 2023 on Saturday\, September 30\, 2023\, at 10:00 AM! Lace up your running shoes and get ready for a school spirit-focused event. Interested In a 5k? That'll be 12.5 laps around the track! Can walk or run more or fewer laps - it's up to you!\n\nThis year we've moved to the Houghton High School track\, making the event perfect for families! Students\, families\, and the community are welcome to join us for this HES PTO fundraiser.\n\nSo mark your calendars - we can't wait to see you at the Gremlins Fun Run 2023!
X-ALT-DESC;FMTTYPE=text/html:<p style="margin: 0px\; padding: 10px 0px 0px\; box-sizing: border-box\; color: rgb(111\, 114\, 135)\; font-size: 16px\; line-height: 1.5rem\; font-family: &quot\;Neue Plak&quot\;\, -apple-system\, BlinkMacSystemFont\, Roboto\, &quot\;Helvetica Neue&quot\;\, Helvetica\, Tahoma\, Arial\, sans-serif\;">Join us for the&nbsp\;<span style="font-weight: 700\; box-sizing: border-box\; padding-top: 0px\;">Gremlins Fun Run 2023</span>&nbsp\;on Saturday\, September 30\, 2023\, at 10:00 AM! Lace up your running shoes and get ready for a school spirit-focused event. Interested In a 5k? That&#39\;ll be 12.5 laps around the track! Can walk or run more or fewer laps - it&#39\;s up to you!</p>\n\n<p style="margin: 0px\; padding: 10px 0px 0px\; box-sizing: border-box\; color: rgb(111\, 114\, 135)\; font-size: 16px\; line-height: 1.5rem\; font-family: &quot\;Neue Plak&quot\;\, -apple-system\, BlinkMacSystemFont\, Roboto\, &quot\;Helvetica Neue&quot\;\, Helvetica\, Tahoma\, Arial\, sans-serif\;">This year we&#39\;ve moved to the Houghton High School track\, making the event perfect for families! Students\, families\, and the community are welcome to join us for this HES PTO fundraiser.</p>\n\n<p style="margin: 0px\; padding: 10px 0px 0px\; box-sizing: border-box\; color: rgb(111\, 114\, 135)\; font-size: 16px\; line-height: 1.5rem\; font-family: &quot\;Neue Plak&quot\;\, -apple-system\, BlinkMacSystemFont\, Roboto\, &quot\;Helvetica Neue&quot\;\, Helvetica\, Tahoma\, Arial\, sans-serif\;">So mark your calendars - we can&#39\;t wait to see you at the&nbsp\;<span style="font-weight: 700\; box-sizing: border-box\; padding-top: 0px\;">Gremlins Fun Run 2023</span>!</p>\n
LOCATION:Houghton High School Track
UID:e.2486.8090
SEQUENCE:3
DTSTAMP:20260423T234256Z
URL:https://business.keweenaw.org/events/details/gremlin-fun-run-8090
END:VEVENT

END:VCALENDAR
