BEGIN:VCALENDAR
VERSION:2.0
PRODID:-//ChamberMaster//Event Calendar 2.0//EN
METHOD:PUBLISH
X-PUBLISHED-TTL:P3D
REFRESH-INTERVAL:P3D
CALSCALE:GREGORIAN
BEGIN:VEVENT
DTSTART:20230818T150000Z
DTEND:20230818T170000Z
X-MICROSOFT-CDO-ALLDAYEVENT:FALSE
SUMMARY:Grand Opening | Agassi House
DESCRIPTION:
X-ALT-DESC;FMTTYPE=text/html:
LOCATION:
UID:e.2486.7980
SEQUENCE:3
DTSTAMP:20260421T100153Z
URL:https://business.keweenaw.org/events/details/grand-opening-agassi-house-7980
END:VEVENT

END:VCALENDAR
