BEGIN:VCALENDAR
VERSION:2.0
PRODID:-//ChamberMaster//Event Calendar 2.0//EN
METHOD:PUBLISH
X-PUBLISHED-TTL:P3D
REFRESH-INTERVAL:P3D
CALSCALE:GREGORIAN
BEGIN:VEVENT
DTSTART:20230909T180000Z
DTEND:20230910T020000Z
X-MICROSOFT-CDO-ALLDAYEVENT:FALSE
SUMMARY:End of Summer Celebration | Downtown Hancock
DESCRIPTION:Mark your calendars and plan to attend the City of Hancock's "End of Summer Celebration" on Saturday\, September 9th from 2 pm to 10 pm on Quincy Green (405 Quincy Street) and at 400 Quincy Street (back parking deck). There will be a corn hole tournament\, a pickle ball tournament\, activities for the kids\, bouncy houses\, vendors\, and a street dance! There is MUCH MORE to come. Follow us on Social Media or visit www.cityofhancock.com for more information.
X-ALT-DESC;FMTTYPE=text/html:<span style="color: rgb(5\, 5\, 5)\; font-family: &quot\;Segoe UI Historic&quot\;\, &quot\;Segoe UI&quot\;\, Helvetica\, Arial\, sans-serif\; font-size: 15px\;">Mark your calendars and plan to attend the City of Hancock&#39\;s &quot\;End of Summer Celebration&quot\; on Saturday\, September 9th from 2 pm to 10 pm on Quincy Green (405 Quincy Street) and at 400 Quincy Street (back parking deck). There will be a corn hole tournament\, a pickle ball tournament\, activities for the kids\, bouncy houses\, vendors\, and a street dance! There is MUCH MORE to come. Follow us on Social Media or visit&nbsp\;</span><a class="x1i10hfl xjbqb8w x6umtig x1b1mbwd xaqea5y xav7gou x9f619 x1ypdohk xt0psk2 xe8uvvx xdj266r x11i5rnm xat24cr x1mh8g0r xexx8yu x4uap5 x18d9i69 xkhd6sd x16tdsg8 x1hl2dhg xggy1nq x1a2a7pz xt0b8zv x1fey0fg" href="https://l.facebook.com/l.php?u=http%3A%2F%2Fwww.cityofhancock.com%2F%3Ffbclid%3DIwAR3xl979RBFxvLTG9zGDg8ticeBtcsNqzGSaAFoEwFCiCqJWusPqTwtlY5E&amp\;h=AT3n_CUcSUz0pUz9KbtrdDSnPE-wIvzp8vH4Ad04vLo9Ng3V2Nqa7oc3g3FzIsD66QDsn9GGUjLuTyuKKjx4wghu9i_8OhycoPEAsNP2pQDl3fLbI6G8zhPXSxLP6KYE_Q&amp\;__tn__=q&amp\;c[0]=AT3wmuLofoysiyZnv1C8bMNeBPi5Uh9XQHnH2rSA84CZmT3tBTfhlaCsqtoWVv8q3gnSc23W14YnR6BkFcvrEV5DPqMyxEWi-oUHecdObr5w4NF-boyspk0ATpWLRCA2-YhP9euNQTQ2ft3oRBw5Y-ZfnoJ0" rel="nofollow noreferrer" role="link" style="color: var(--blue-link)\; cursor: pointer\; text-decoration-line: none\; border-width: 0px\; border-style: initial\; border-color: initial\; outline: none\; list-style: none\; margin: 0px\; padding: 0px\; -webkit-tap-highlight-color: transparent\; box-sizing: border-box\; touch-action: manipulation\; display: inline\; font-family: &quot\;Segoe UI Historic&quot\;\, &quot\;Segoe UI&quot\;\, Helvetica\, Arial\, sans-serif\; font-size: 15px\;" tabindex="0" target="_blank">www.cityofhancock.com</a><span style="color: rgb(5\, 5\, 5)\; font-family: &quot\;Segoe UI Historic&quot\;\, &quot\;Segoe UI&quot\;\, Helvetica\, Arial\, sans-serif\; font-size: 15px\;">&nbsp\;for more information.</span><span style="color: rgb(5\, 5\, 5)\; font-family: &quot\;Segoe UI Historic&quot\;\, &quot\;Segoe UI&quot\;\, Helvetica\, Arial\, sans-serif\; font-size: 15px\;">&nbsp\;</span>
LOCATION:Downtown Hancock
UID:e.2486.8002
SEQUENCE:3
DTSTAMP:20260424T110609Z
URL:https://business.keweenaw.org/events/details/end-of-summer-celebration-downtown-hancock-8002
END:VEVENT

END:VCALENDAR
