BEGIN:VCALENDAR
VERSION:2.0
PRODID:-//ChamberMaster//Event Calendar 2.0//EN
METHOD:PUBLISH
X-PUBLISHED-TTL:P3D
REFRESH-INTERVAL:P3D
CALSCALE:GREGORIAN
BEGIN:VEVENT
DTSTART:20210527T230000Z
DTEND:20210528T000000Z
X-MICROSOFT-CDO-ALLDAYEVENT:FALSE
SUMMARY:Copper Country Railroads
DESCRIPTION:Be sure to join us for Bill Sproule's Copper Country Railroads talk: Zoom link anytime after 6:50 pm: https://michigantech.zoom.us/j/81609009014
X-ALT-DESC;FMTTYPE=text/html:<span style="color: rgb(5\, 5\, 5)\; font-family: &quot\;Segoe UI Historic&quot\;\, &quot\;Segoe UI&quot\;\, Helvetica\, Arial\, sans-serif\; font-size: 15px\; white-space: pre-wrap\;">Be sure to join us for Bill Sproule&#39\;s Copper Country Railroads talk: Zoom link anytime after 6:50 pm: </span><span style="font-family: &quot\;Segoe UI Historic&quot\;\, &quot\;Segoe UI&quot\;\, Helvetica\, Arial\, sans-serif\; color: rgb(5\, 5\, 5)\; font-size: 15px\; white-space: pre-wrap\;"><a class="oajrlxb2 g5ia77u1 qu0x051f esr5mh6w e9989ue4 r7d6kgcz rq0escxv nhd2j8a9 nc684nl6 p7hjln8o kvgmc6g5 cxmmr5t8 oygrvhab hcukyx3x jb3vyjys rz4wbd8a qt6c0cv9 a8nywdso i1ao9s8h esuyzwwr f1sip0of lzcic4wl py34i1dx gpro0wi8" href="https://michigantech.zoom.us/j/81609009014?fbclid=IwAR2uxBVR41Sg880i12GhkkikMAKOSWQAOYSGFoylELS-CC-sqK6lvBPcWWI" rel="nofollow" role="link" style="color: var(--blue-link)\; cursor: pointer\; text-decoration-line: none\; outline: none\; list-style: none\; border-width: 0px\; border-style: initial\; border-color: initial\; padding: 0px\; margin: 0px\; touch-action: manipulation\; background-color: transparent\; text-align: inherit\; display: inline\; -webkit-tap-highlight-color: transparent\; box-sizing: border-box\; font-family: inherit\;" tabindex="0" target="_blank">https://michigantech.zoom.us/j/81609009014</a></span>
LOCATION:
UID:e.2486.7485
SEQUENCE:3
DTSTAMP:20260421T115938Z
URL:https://business.keweenaw.org/events/details/copper-country-railroads-7485
END:VEVENT

END:VCALENDAR
