BEGIN:VCALENDAR
VERSION:2.0
PRODID:-//ChamberMaster//Event Calendar 2.0//EN
METHOD:PUBLISH
X-PUBLISHED-TTL:P3D
REFRESH-INTERVAL:P3D
CALSCALE:GREGORIAN
BEGIN:VEVENT
DTSTART:20200220T160000Z
DTEND:20200220T210000Z
X-MICROSOFT-CDO-ALLDAYEVENT:FALSE
SUMMARY:Calumet Art Center Soup Bowl Sale Fundraiser
DESCRIPTION:Join us on Thursday\, February 20 from 11 am to 4 pm at the Michigan House Cafe for a Calumet Art Center Soup Bowl Sale Fundraiser. Purchase of a soup bowl includes a choice of 3 homemade soups\, homemade breadsticks\, and music & storytelling with Oren Tikkanen and the Backroom Boys from noon to 1:30 pm. Bowls are $15 for a small and $20 for a large. Come in\, pick out a beautiful bowl\, and enjoy the afternoon all while supporting the Calumet Art Center.
X-ALT-DESC;FMTTYPE=text/html:Join us on Thursday\, February 20 from 11 am to 4 pm at the Michigan House Cafe for a Calumet Art Center Soup Bowl Sale Fundraiser. Purchase of a soup bowl includes a choice of 3 homemade soups\, homemade breadsticks\, and music &amp\; storytelling with Oren Tikkanen and the Backroom Boys from noon to 1:30 pm. Bowls are $15 for a small and $20 for a large. Come in\, pick out a beautiful bowl\, and enjoy the afternoon all while supporting the Calumet Art Center.
LOCATION:Michigan House Caf 300 6th Street Calumet\, MI 49913
UID:e.2486.7368
SEQUENCE:3
DTSTAMP:20260421T113521Z
URL:https://business.keweenaw.org/events/details/calumet-art-center-soup-bowl-sale-fundraiser-7368
END:VEVENT

END:VCALENDAR
