BEGIN:VCALENDAR
VERSION:2.0
PRODID:-//ChamberMaster//Event Calendar 2.0//EN
METHOD:PUBLISH
X-PUBLISHED-TTL:P3D
REFRESH-INTERVAL:P3D
CALSCALE:GREGORIAN
BEGIN:VEVENT
DTSTART:20230319T170000Z
DTEND:20230319T200000Z
X-MICROSOFT-CDO-ALLDAYEVENT:FALSE
SUMMARY:Book & Bake Sale Fundraiser
DESCRIPTION:Join us for Books & Baked Goods on Sunday\, March 19 from 1 to 4 pm. Loads of crafting books and some yummy baked goods. Books will be sold at .50 for soft cover\, $1.00 for hard cover. This is a fundraiser for the Calumet Art Center.
X-ALT-DESC;FMTTYPE=text/html:Join us for Books &amp\; Baked Goods on Sunday\, March 19 from 1 to 4 pm. Loads of crafting books and some yummy baked goods. Books will be sold at .50 for soft cover\, $1.00 for hard cover. This is a fundraiser for the Calumet Art Center.
LOCATION:Calumet Art Center 57055 5th Street Calumet\, MI 49913
UID:e.2486.7892
SEQUENCE:3
DTSTAMP:20260423T030055Z
URL:https://business.keweenaw.org/events/details/book-bake-sale-fundraiser-7892
END:VEVENT

END:VCALENDAR
