BEGIN:VCALENDAR
VERSION:2.0
PRODID:-//ChamberMaster//Event Calendar 2.0//EN
METHOD:PUBLISH
X-PUBLISHED-TTL:P3D
REFRESH-INTERVAL:P3D
CALSCALE:GREGORIAN
BEGIN:VEVENT
DTSTART:20220218T193000Z
DTEND:20220219T013000Z
X-MICROSOFT-CDO-ALLDAYEVENT:FALSE
SUMMARY:An Evening of 1 Acts: Show B
DESCRIPTION:The Michigan Tech Music presents: AN EVENING OF 1 ACTS: SHOW B ___ Buckle in for an evening of one-act plays written by female writers and dealing with the diverse elements of female identity. This inter-collegiate will include original plays by students from the University of Michigan directed and performed by Michigan Tech students. This evening's performance of Show B will consist of: Shaped By You By Diana Pierangeli Directed by Laurel Schmidt I Hope... By Shannon Harper Directed by David Brown Learn more here. ___ DETAILS DATES 7:30 p.m. on February 18\, 24\, AND 26\, 2022 LOCATION McArdle Theatre Masks Required TICKETS $15 Adults/$5 Youth Included with Experience Tech Fee Get tickets ? https://bit.ly/3FjoRGA
X-ALT-DESC;FMTTYPE=text/html:The Michigan Tech Music presents: AN EVENING OF 1 ACTS: SHOW B ___ Buckle in for an evening of one-act plays written by female writers and dealing with the diverse elements of female identity. This inter-collegiate will include original plays by students from the University of Michigan directed and performed by Michigan Tech students. This evening&rsquo\;s performance of Show B will consist of: Shaped By You By Diana Pierangeli Directed by Laurel Schmidt I Hope... By Shannon Harper Directed by David Brown Learn more here. ___ DETAILS DATES 7:30 p.m. on February 18\, 24\, AND 26\, 2022 LOCATION McArdle Theatre Masks Required TICKETS $15 Adults/$5 Youth Included with Experience Tech Fee Get tickets ? https://bit.ly/3FjoRGA
LOCATION:McArdle Theatre
UID:e.2486.7660
SEQUENCE:3
DTSTAMP:20260421T102535Z
URL:https://business.keweenaw.org/events/details/an-evening-of-1-acts-show-b-7660
END:VEVENT

END:VCALENDAR
